BEGIN:VCALENDAR
VERSION:2.0
PRODID:-//DV PTO - ECPv6.15.20//NONSGML v1.0//EN
CALSCALE:GREGORIAN
METHOD:PUBLISH
X-WR-CALNAME:DV PTO
X-ORIGINAL-URL:https://dakotavalleypto.com
X-WR-CALDESC:Events for DV PTO
REFRESH-INTERVAL;VALUE=DURATION:PT1H
X-Robots-Tag:noindex
X-PUBLISHED-TTL:PT1H
BEGIN:VTIMEZONE
TZID:America/North_Dakota/New_Salem
BEGIN:DAYLIGHT
TZOFFSETFROM:-0600
TZOFFSETTO:-0500
TZNAME:CDT
DTSTART:20250309T080000
END:DAYLIGHT
BEGIN:STANDARD
TZOFFSETFROM:-0500
TZOFFSETTO:-0600
TZNAME:CST
DTSTART:20251102T070000
END:STANDARD
BEGIN:DAYLIGHT
TZOFFSETFROM:-0600
TZOFFSETTO:-0500
TZNAME:CDT
DTSTART:20260308T080000
END:DAYLIGHT
BEGIN:STANDARD
TZOFFSETFROM:-0500
TZOFFSETTO:-0600
TZNAME:CST
DTSTART:20261101T070000
END:STANDARD
BEGIN:DAYLIGHT
TZOFFSETFROM:-0600
TZOFFSETTO:-0500
TZNAME:CDT
DTSTART:20270314T080000
END:DAYLIGHT
BEGIN:STANDARD
TZOFFSETFROM:-0500
TZOFFSETTO:-0600
TZNAME:CST
DTSTART:20271107T070000
END:STANDARD
END:VTIMEZONE
BEGIN:VEVENT
DTSTART;TZID=America/North_Dakota/New_Salem:20260131T100000
DTEND;TZID=America/North_Dakota/New_Salem:20260131T120000
DTSTAMP:20260423T173133
CREATED:20260123T010217Z
LAST-MODIFIED:20260123T010217Z
UID:5050-1769853600-1769860800@dakotavalleypto.com
SUMMARY:DV Spark Market
DESCRIPTION:
URL:https://dakotavalleypto.com/event/dv-spark-market/
LOCATION:Dakota Valley Elementary School Commons
ATTACH;FMTTYPE=image/png:https://dakotavalleypto.com/wp-content/uploads/2026/01/SparkMarket_Tagline-scaled.png
END:VEVENT
BEGIN:VEVENT
DTSTART;TZID=America/North_Dakota/New_Salem:20260204T193000
DTEND;TZID=America/North_Dakota/New_Salem:20260204T203000
DTSTAMP:20260423T173133
CREATED:20260123T005042Z
LAST-MODIFIED:20260123T005042Z
UID:5042-1770233400-1770237000@dakotavalleypto.com
SUMMARY:PTO Meeting - February
DESCRIPTION:February’s general meeting will be held at Bob & Ellen’s in North Sioux City.
URL:https://dakotavalleypto.com/event/pto-meeting-february/
END:VEVENT
BEGIN:VEVENT
DTSTART;TZID=America/North_Dakota/New_Salem:20260214T173000
DTEND;TZID=America/North_Dakota/New_Salem:20260214T190000
DTSTAMP:20260423T173133
CREATED:20260123T010646Z
LAST-MODIFIED:20260123T010646Z
UID:5056-1771090200-1771095600@dakotavalleypto.com
SUMMARY:Middle School Mixer (Spring)
DESCRIPTION:
URL:https://dakotavalleypto.com/event/middle-school-mixer-spring/
ATTACH;FMTTYPE=image/jpeg:https://dakotavalleypto.com/wp-content/uploads/2026/01/617665906_122201190458552086_59047914542269586_n.jpg
END:VEVENT
BEGIN:VEVENT
DTSTART;TZID=America/North_Dakota/New_Salem:20260306T180000
DTEND;TZID=America/North_Dakota/New_Salem:20260306T190000
DTSTAMP:20260423T173133
CREATED:20260123T005149Z
LAST-MODIFIED:20260123T005149Z
UID:5044-1772820000-1772823600@dakotavalleypto.com
SUMMARY:PTO Meeting - March
DESCRIPTION:March’s general meeting will be held at Bob & Ellen’s in North Sioux City.
URL:https://dakotavalleypto.com/event/pto-meeting-march/
LOCATION:Bob & Ellen’s (NSC)\, 100 Sodrac Dr Suite 150\, North Sioux City\, South Dakota\, 57049
END:VEVENT
BEGIN:VEVENT
DTSTART;TZID=America/North_Dakota/New_Salem:20260319T173000
DTEND;TZID=America/North_Dakota/New_Salem:20260319T200000
DTSTAMP:20260423T173133
CREATED:20260123T010354Z
LAST-MODIFIED:20260123T010354Z
UID:5053-1773941400-1773950400@dakotavalleypto.com
SUMMARY:Storyland Carnival
DESCRIPTION:Literacy-themed Carnival for our DVES students!
URL:https://dakotavalleypto.com/event/storyland-carnival/
LOCATION:Dakota Valley Elementary School Commons
ATTACH;FMTTYPE=application/pdf:https://dakotavalleypto.com/wp-content/uploads/2026/01/Storyland-Carnival-Logo.pdf
END:VEVENT
BEGIN:VEVENT
DTSTART;TZID=America/North_Dakota/New_Salem:20260401T193000
DTEND;TZID=America/North_Dakota/New_Salem:20260401T203000
DTSTAMP:20260423T173133
CREATED:20260123T005315Z
LAST-MODIFIED:20260123T005315Z
UID:5046-1775071800-1775075400@dakotavalleypto.com
SUMMARY:PTO Meeting - April
DESCRIPTION:April’s general meeting will be held at Bob & Ellen’s in North Sioux City.
URL:https://dakotavalleypto.com/event/pto-meeting-april/
LOCATION:Bob & Ellen’s (NSC)\, 100 Sodrac Dr Suite 150\, North Sioux City\, South Dakota\, 57049
END:VEVENT
BEGIN:VEVENT
DTSTART;TZID=America/North_Dakota/New_Salem:20260507T140000
DTEND;TZID=America/North_Dakota/New_Salem:20260507T150000
DTSTAMP:20260423T173133
CREATED:20260123T005419Z
LAST-MODIFIED:20260123T005419Z
UID:5048-1778162400-1778166000@dakotavalleypto.com
SUMMARY:PTO Meeting - May
DESCRIPTION:May’s general meeting will be held in the Den at Dakota Valley Elementary School
URL:https://dakotavalleypto.com/event/pto-meeting-may/
LOCATION:Dakota Valley Elementary School Den
END:VEVENT
END:VCALENDAR