BEGIN:VCALENDAR
VERSION:2.0
PRODID:-//DV PTO - ECPv6.15.20//NONSGML v1.0//EN
CALSCALE:GREGORIAN
METHOD:PUBLISH
X-ORIGINAL-URL:https://dakotavalleypto.com
X-WR-CALDESC:Events for DV PTO
REFRESH-INTERVAL;VALUE=DURATION:PT1H
X-Robots-Tag:noindex
X-PUBLISHED-TTL:PT1H
BEGIN:VTIMEZONE
TZID:America/North_Dakota/New_Salem
BEGIN:DAYLIGHT
TZOFFSETFROM:-0600
TZOFFSETTO:-0500
TZNAME:CDT
DTSTART:20240310T080000
END:DAYLIGHT
BEGIN:STANDARD
TZOFFSETFROM:-0500
TZOFFSETTO:-0600
TZNAME:CST
DTSTART:20241103T070000
END:STANDARD
BEGIN:DAYLIGHT
TZOFFSETFROM:-0600
TZOFFSETTO:-0500
TZNAME:CDT
DTSTART:20250309T080000
END:DAYLIGHT
BEGIN:STANDARD
TZOFFSETFROM:-0500
TZOFFSETTO:-0600
TZNAME:CST
DTSTART:20251102T070000
END:STANDARD
BEGIN:DAYLIGHT
TZOFFSETFROM:-0600
TZOFFSETTO:-0500
TZNAME:CDT
DTSTART:20260308T080000
END:DAYLIGHT
BEGIN:STANDARD
TZOFFSETFROM:-0500
TZOFFSETTO:-0600
TZNAME:CST
DTSTART:20261101T070000
END:STANDARD
END:VTIMEZONE
BEGIN:VEVENT
DTSTART;TZID=America/North_Dakota/New_Salem:20251203T193000
DTEND;TZID=America/North_Dakota/New_Salem:20251203T203000
DTSTAMP:20260423T171513
CREATED:20250928T203827Z
LAST-MODIFIED:20250928T204340Z
UID:4760-1764790200-1764793800@dakotavalleypto.com
SUMMARY:PTO Meeting - December
DESCRIPTION:Stop in and have a delicious drink with us at Bob & Ellen’s in North Sioux City while we discuss upcoming PTO events!
URL:https://dakotavalleypto.com/event/pto-meeting-december/
LOCATION:Bob & Ellen’s (NSC)\, 100 Sodrac Dr Suite 150\, North Sioux City\, South Dakota\, 57049
ATTACH;FMTTYPE=image/png:https://dakotavalleypto.com/wp-content/uploads/2024/09/featured-design.png
END:VEVENT
END:VCALENDAR